BEGIN:VCALENDAR
VERSION:2.0
PRODID:-//Kunstreich - Bern und Ostermundigen - ECPv6.15.11//NONSGML v1.0//EN
CALSCALE:GREGORIAN
METHOD:PUBLISH
X-WR-CALNAME:Kunstreich - Bern und Ostermundigen
X-ORIGINAL-URL:https://www.kunstreich.ch
X-WR-CALDESC:Veranstaltungen für Kunstreich - Bern und Ostermundigen
REFRESH-INTERVAL;VALUE=DURATION:PT1H
X-Robots-Tag:noindex
X-PUBLISHED-TTL:PT1H
BEGIN:VTIMEZONE
TZID:Europe/Paris
BEGIN:DAYLIGHT
TZOFFSETFROM:+0100
TZOFFSETTO:+0200
TZNAME:CEST
DTSTART:20250330T010000
END:DAYLIGHT
BEGIN:STANDARD
TZOFFSETFROM:+0200
TZOFFSETTO:+0100
TZNAME:CET
DTSTART:20251026T010000
END:STANDARD
BEGIN:DAYLIGHT
TZOFFSETFROM:+0100
TZOFFSETTO:+0200
TZNAME:CEST
DTSTART:20260329T010000
END:DAYLIGHT
BEGIN:STANDARD
TZOFFSETFROM:+0200
TZOFFSETTO:+0100
TZNAME:CET
DTSTART:20261025T010000
END:STANDARD
BEGIN:DAYLIGHT
TZOFFSETFROM:+0100
TZOFFSETTO:+0200
TZNAME:CEST
DTSTART:20270328T010000
END:DAYLIGHT
BEGIN:STANDARD
TZOFFSETFROM:+0200
TZOFFSETTO:+0100
TZNAME:CET
DTSTART:20271031T010000
END:STANDARD
END:VTIMEZONE
BEGIN:VEVENT
DTSTART;VALUE=DATE:20260115
DTEND;VALUE=DATE:20260215
DTSTAMP:20260421T170153
CREATED:20251106T183020Z
LAST-MODIFIED:20251202T153154Z
UID:3591-1768435200-1771113599@www.kunstreich.ch
SUMMARY:Ausstellung: Alexandra Schläfli
DESCRIPTION:Vernissage: Donnerstag\, 15. Januar 2026 17 – 20 Uhr \nAusstellung: 15. Januar – 14. Februar 2026\nBerner Galerienwochenende: 17. & 18. Januar 2026 11-17 Uhr\nAlexandra Schläfli zeigt ihre Bilderserie über die verwinkelten Gässchen von Bern. In einer speziellen Mal- und Spritztechnik entstanden\, entfalten die Werke eine faszinierende Tiefe und Struktur. Mit viel Liebe zum Detail fängt die Grafikerin die besondere Atmosphäre der Altstadt ein und verbindet präzise Beobachtung mit einer poetischen Bildsprache. \nDer Verein Berner Galerien sowie seine Kultur- und  Museumspartner:innen laden Sie herzlich zum traditionellen Berner Galerien Wochenende (BGW) ein\, welches 2026 am 17. und 18. Januar stattfinden wird.\nDas Berner Galerien Wochenende feiert sein 40-jähriges Bestehen – die erste Ausgabe fand im September 1986 statt. Erneut freuen wir uns auf Ihren Besuch und den Austausch! \n 
URL:https://www.kunstreich.ch/event/ausstellung-alexandra-schlaefli/
LOCATION:Kunstreich Bern\, Gerechtigkeitsgasse 76\, Bern\, 3011\, Schweiz
CATEGORIES:Ausstellung
ATTACH;FMTTYPE=image/jpeg:https://www.kunstreich.ch/wp-content/uploads/2025/11/Alexandra_Schlaefli_Kunstreich_Bern.jpg
END:VEVENT
BEGIN:VEVENT
DTSTART;VALUE=DATE:20260226
DTEND;VALUE=DATE:20260329
DTSTAMP:20260421T170153
CREATED:20251106T185750Z
LAST-MODIFIED:20251106T191852Z
UID:3601-1772064000-1774742399@www.kunstreich.ch
SUMMARY:Ausstellung: Andreas Rickenbacher
DESCRIPTION:Vernnissage: Donnerstag\, 26. Februar 2026 17 – 19 Uhr\nAusstellung: 26. Februar – 28. März 2026\nFinissage: Samstag\, 28. März 2026 11 – 14 Uhr\nRealistische Bildsprache. Andreas Rickenbacher zeigt seine fotorealistisch gemalten Landschaften und Schiffsansichten. Er vollzieht auf den Oberflächen seiner Bilder ein höchst anregendes Nebeneinander von Farbräumen\, Formvarianten und Lichtstimmungen. Nicht nur seine Schiffsmotive\, auch seine Bergbilder zeigen diese malerische Erzähllust\, die hin und wieder Details verschweigt\, dafür das grosse Ganze fulminant vor uns ausbreitet. Andreas Rickenbacher entwickelt eine eigene Bildsprache\, die sich an der Realität orientiert\, diese jedoch in Neues\, bisher Ungesehenes verwandelt.
URL:https://www.kunstreich.ch/event/ausstellung-andreas-rickenbacher/
CATEGORIES:Ausstellung
END:VEVENT
BEGIN:VEVENT
DTSTART;TZID=Europe/Paris:20260226T170000
DTEND;TZID=Europe/Paris:20260226T190000
DTSTAMP:20260421T170153
CREATED:20251106T185946Z
LAST-MODIFIED:20251106T191756Z
UID:3604-1772125200-1772132400@www.kunstreich.ch
SUMMARY:Vernissage: Andreas Rickenbacher
DESCRIPTION:Vernnissage: Donnerstag\, 26. Februar 2026 17 – 19 Uhr\nAusstellung: 26. Februar – 28. März 2026\nFinissage: Samstag\, 28. März 2026 11 – 14 Uhr\nRealistische Bildsprache. Andreas Rickenbacher zeigt seine fotorealistisch gemalten Landschaften und Schiffsansichten. Er vollzieht auf den Oberflächen seiner Bilder ein höchst anregendes Nebeneinander von Farbräumen\, Formvarianten und Lichtstimmungen. Nicht nur seine Schiffsmotive\, auch seine Bergbilder zeigen diese malerische Erzähllust\, die hin und wieder Details verschweigt\, dafür das grosse Ganze fulminant vor uns ausbreitet. Andreas Rickenbacher entwickelt eine eigene Bildsprache\, die sich an der Realität orientiert\, diese jedoch in Neues\, bisher Ungesehenes verwandelt.
URL:https://www.kunstreich.ch/event/vernissage-andreas-rickenbacher/
LOCATION:Kunstreich Bern\, Gerechtigkeitsgasse 76\, Bern\, 3011\, Schweiz
CATEGORIES:Vernissage
END:VEVENT
END:VCALENDAR