BEGIN:VCALENDAR
VERSION:2.0
PRODID:-//Kunstreich - Bern und Ostermundigen - ECPv6.15.11//NONSGML v1.0//EN
CALSCALE:GREGORIAN
METHOD:PUBLISH
X-ORIGINAL-URL:https://www.kunstreich.ch
X-WR-CALDESC:Veranstaltungen für Kunstreich - Bern und Ostermundigen
REFRESH-INTERVAL;VALUE=DURATION:PT1H
X-Robots-Tag:noindex
X-PUBLISHED-TTL:PT1H
BEGIN:VTIMEZONE
TZID:Europe/Paris
BEGIN:DAYLIGHT
TZOFFSETFROM:+0100
TZOFFSETTO:+0200
TZNAME:CEST
DTSTART:20240331T010000
END:DAYLIGHT
BEGIN:STANDARD
TZOFFSETFROM:+0200
TZOFFSETTO:+0100
TZNAME:CET
DTSTART:20241027T010000
END:STANDARD
BEGIN:DAYLIGHT
TZOFFSETFROM:+0100
TZOFFSETTO:+0200
TZNAME:CEST
DTSTART:20250330T010000
END:DAYLIGHT
BEGIN:STANDARD
TZOFFSETFROM:+0200
TZOFFSETTO:+0100
TZNAME:CET
DTSTART:20251026T010000
END:STANDARD
BEGIN:DAYLIGHT
TZOFFSETFROM:+0100
TZOFFSETTO:+0200
TZNAME:CEST
DTSTART:20260329T010000
END:DAYLIGHT
BEGIN:STANDARD
TZOFFSETFROM:+0200
TZOFFSETTO:+0100
TZNAME:CET
DTSTART:20261025T010000
END:STANDARD
END:VTIMEZONE
BEGIN:VEVENT
DTSTART;VALUE=DATE:20250613
DTEND;VALUE=DATE:20250713
DTSTAMP:20260422T035444
CREATED:20250124T152452Z
LAST-MODIFIED:20250608T124713Z
UID:3521-1749772800-1752364799@www.kunstreich.ch
SUMMARY:Ausstellung Karin Frank & Sina
DESCRIPTION:Wenn Farben tanzen\nKreativ-Coach & Malerin Karin Frank und die Musikerin Sina: zwei schöpferische Macherinnen und herzhafte Künstlerinnen. Bereits 2019 arbeiteten sie für die Gestaltung des CD Booklets «EMMA» zusammen. Die Faszination der Verbindung von Malerei und Musik inspirierte die Beiden und hat sie nicht mehr losgelassen. In einer Reihe abstrakter Kunstwerke haben Karin Frank und Sina ihre gemeinsame Kreativ-Reise fortgesetzt. Während ihrer experimentellen Mal-Sessions entstanden Werke\, welche die Ausdruckskraft und Lebensfreude beider Künstlerinnen widerspiegeln. \nWir laden Sie herzlich ein\, diese inspirierende Mischung aus gemeinsamen Kunstprojekten und Einzelarbeiten zu entdecken. \n\nVernissage 12. Juni  2025 17-20h\nAusstellung 13. Juni -12. Juli 2025\nVideo zur Ausstellung
URL:https://www.kunstreich.ch/event/ausstellung-karin-frank-sina/
LOCATION:Kunstreich Bern\, Gerechtigkeitsgasse 76\, Bern\, 3011\, Schweiz
CATEGORIES:Ausstellung
ATTACH;FMTTYPE=image/jpeg:https://www.kunstreich.ch/wp-content/uploads/2025/01/Foto_Karin_Frank_Sina.jpg
END:VEVENT
BEGIN:VEVENT
DTSTART;VALUE=DATE:20250714
DTEND;VALUE=DATE:20250727
DTSTAMP:20260422T035444
CREATED:20250709T090143Z
LAST-MODIFIED:20250709T090215Z
UID:3542-1752451200-1753574399@www.kunstreich.ch
SUMMARY:Verlängerung der Ausstellung Karin Frank & Sina
DESCRIPTION:
URL:https://www.kunstreich.ch/event/verlaengerung-der-ausstellung-karin-frannk-sina/
LOCATION:Kunstreich Bern\, Gerechtigkeitsgasse 76\, Bern\, 3011\, Schweiz
CATEGORIES:Vernissage
ATTACH;FMTTYPE=image/jpeg:https://www.kunstreich.ch/wp-content/uploads/2025/01/Foto_Karin_Frank_Sina.jpg
END:VEVENT
BEGIN:VEVENT
DTSTART;TZID=Europe/Paris:20250726T100000
DTEND;TZID=Europe/Paris:20250726T180000
DTSTAMP:20260422T035444
CREATED:20250708T130501Z
LAST-MODIFIED:20250708T130501Z
UID:3534-1753524000-1753552800@www.kunstreich.ch
SUMMARY:«Abhängen» mit Karin Frank und Sina 26.7.2025
DESCRIPTION:Letzte Gelegenheit die beiden Künstlerinnen in ihrer Ausstellung zu treffen.\nZwischen 10:00 & 11:00 mit Kaffee und Gipfeli oder zwischen 16:00 & 18:00 mit Apéro\nSelbstverständlich dürfen Sie auch in der zwischen Zeit kommen und ihre Lieblings-Bilder gleich mitnehmen.\nWir freuen uns auf die spannenden Begegnungen.\nMarianne Reich Arn\, Karin Frank & SINA\n 
URL:https://www.kunstreich.ch/event/abhaengen-mit-karin-frank-und-sina-26-7-2025/
LOCATION:Kunstreich Bern\, Gerechtigkeitsgasse 76\, Bern\, 3011\, Schweiz
CATEGORIES:Finissage
ATTACH;FMTTYPE=image/jpeg:https://www.kunstreich.ch/wp-content/uploads/2025/07/Abhaengen-mit-Karin-Frank-und-SINA.jpg
END:VEVENT
END:VCALENDAR