BEGIN:VCALENDAR
VERSION:2.0
PRODID:-//Kunstreich - Bern und Ostermundigen - ECPv6.15.11//NONSGML v1.0//EN
CALSCALE:GREGORIAN
METHOD:PUBLISH
X-ORIGINAL-URL:https://www.kunstreich.ch
X-WR-CALDESC:Veranstaltungen für Kunstreich - Bern und Ostermundigen
REFRESH-INTERVAL;VALUE=DURATION:PT1H
X-Robots-Tag:noindex
X-PUBLISHED-TTL:PT1H
BEGIN:VTIMEZONE
TZID:Europe/Paris
BEGIN:DAYLIGHT
TZOFFSETFROM:+0100
TZOFFSETTO:+0200
TZNAME:CEST
DTSTART:20230326T010000
END:DAYLIGHT
BEGIN:STANDARD
TZOFFSETFROM:+0200
TZOFFSETTO:+0100
TZNAME:CET
DTSTART:20231029T010000
END:STANDARD
BEGIN:DAYLIGHT
TZOFFSETFROM:+0100
TZOFFSETTO:+0200
TZNAME:CEST
DTSTART:20240331T010000
END:DAYLIGHT
BEGIN:STANDARD
TZOFFSETFROM:+0200
TZOFFSETTO:+0100
TZNAME:CET
DTSTART:20241027T010000
END:STANDARD
BEGIN:DAYLIGHT
TZOFFSETFROM:+0100
TZOFFSETTO:+0200
TZNAME:CEST
DTSTART:20250330T010000
END:DAYLIGHT
BEGIN:STANDARD
TZOFFSETFROM:+0200
TZOFFSETTO:+0100
TZNAME:CET
DTSTART:20251026T010000
END:STANDARD
END:VTIMEZONE
BEGIN:VEVENT
DTSTART;VALUE=DATE:20240302
DTEND;VALUE=DATE:20240331
DTSTAMP:20260423T034533
CREATED:20240109T203713Z
LAST-MODIFIED:20240109T203713Z
UID:2526-1709337600-1711843199@www.kunstreich.ch
SUMMARY:Ausstellung Sylvie Spillmann
DESCRIPTION:Sylvie Spillmann\, Landschaften \nVernissage am Samstag\, 2. März von 11-15 Uhr \nNach ihrem Studium in Neuchâtel reist Sylvie Spillmann mehrere Jahre lang mit einem Segelboot um die Welt\, zwischen Lateinamerika und Französisch-Polynesien. Mit dem Rucksack auf dem Rücken reist sie anschließend durch Asien und Afrika.\nBei der Renovierung eines alten Hauses in Südfrankreich entdeckte Sylvie die natürlichen Pigmente.\nAls Autodidaktin begann sie zu malen\, indem sie ihre eigenen Keilrahmen aus Altholz und auf Flohmärkten gefundenen Leinentüchern baute. Sie experimentiert mit verschiedenen Techniken\, verwendet Spachtel\, Messer oder Bürsten\, die vor Ort zur Verfügung stehen\, und erkundet so dieses neue Ausdrucksmittel\nSo gelingt es ihr heute die Stimmungen einzigartig wieder zu geben.
URL:https://www.kunstreich.ch/event/ausstellung-sylvie-spillmann/
LOCATION:Kunstreich Bern\, Gerechtigkeitsgasse 76\, Bern\, 3011\, Schweiz
ATTACH;FMTTYPE=image/jpeg:https://www.kunstreich.ch/wp-content/uploads/2024/01/0001.jpg
ORGANIZER;CN="Kunstreich AG":MAILTO:info@kunstreich.ch
END:VEVENT
BEGIN:VEVENT
DTSTART;VALUE=DATE:20240302
DTEND;VALUE=DATE:20240331
DTSTAMP:20260423T034533
CREATED:20240125T131854Z
LAST-MODIFIED:20240125T131854Z
UID:3177-1709337600-1711843199@www.kunstreich.ch
SUMMARY:Ausstellung Carlo Blötzer
DESCRIPTION:Carlo Blötzer ist in einem kreativen Umfeld im Berner Oberland aufgewachsen. Er widmete sich nach seinem Studium und einer Lehrertätigkeit zunehmend der Entwicklung und Gestaltung von Eisenplastiken. Seine Leidenschaft für bewegliche Skulpturen\, inspiriert durch alte Maschinen und Automaten\, spiegelt sich in Werken wider\, die sowohl in ihrer Form als auch in ihrer Dynamik die Verbindung von Maschinenhaftem und Tierischem einfangen. \nEr kombiniert ausgemusterte Werkzeug- und Maschinenelemente neu\, um seine Begeisterung für klare Formen und mechanische Prinzipien auszudrücken. Durch Handkurbeln zum Leben erweckt\, ermöglichen seine Maschinenfiguren einen Einblick in eine Welt\, in der die Maschine eine eigene\, beinahe lebendige Seele zu besitzen scheint. \n 
URL:https://www.kunstreich.ch/event/ausstellung-carlo-bloetzer/
LOCATION:Kunstreich Bern\, Gerechtigkeitsgasse 76\, Bern\, 3011\, Schweiz
CATEGORIES:Ausstellung
ATTACH;FMTTYPE=image/jpeg:https://www.kunstreich.ch/wp-content/uploads/2024/01/Ausstellung_Kunstreich_Carlo_Bloetzer_iptameno-2022.jpg
ORGANIZER;CN="Kunstreich AG":MAILTO:info@kunstreich.ch
END:VEVENT
BEGIN:VEVENT
DTSTART;TZID=Europe/Paris:20240302T110000
DTEND;TZID=Europe/Paris:20240302T150000
DTSTAMP:20260423T034533
CREATED:20240109T204246Z
LAST-MODIFIED:20240109T204246Z
UID:2529-1709377200-1709391600@www.kunstreich.ch
SUMMARY:Vernissage Sylvie Spillmann
DESCRIPTION:Sylvie Spillmann\, Landschaften \nAusstellung 2. bis 30 März 2024 \nVernissage am Samstag\, 2. März von 11-15 Uhr \nNach ihrem Studium in Neuchâtel reist Sylvie Spillmann mehrere Jahre lang mit einem Segelboot um die Welt\, zwischen Lateinamerika und Französisch-Polynesien. Mit dem Rucksack auf dem Rücken reist sie anschließend durch Asien und Afrika.\nBei der Renovierung eines alten Hauses in Südfrankreich entdeckte Sylvie die natürlichen Pigmente.\nAls Autodidaktin begann sie zu malen\, indem sie ihre eigenen Keilrahmen aus Altholz und auf Flohmärkten gefundenen Leinentüchern baute. Sie experimentiert mit verschiedenen Techniken\, verwendet Spachtel\, Messer oder Bürsten\, die vor Ort zur Verfügung stehen\, und erkundet so dieses neue Ausdrucksmittel\nSo gelingt es ihr heute die Stimmungen einzigartig wieder zu geben.
URL:https://www.kunstreich.ch/event/vernissage-sylvie-spillmann/
LOCATION:Kunstreich Bern\, Gerechtigkeitsgasse 76\, Bern\, 3011\, Schweiz
CATEGORIES:Vernissage
ATTACH;FMTTYPE=image/jpeg:https://www.kunstreich.ch/wp-content/uploads/2024/01/0001.jpg
ORGANIZER;CN="Kunstreich AG":MAILTO:info@kunstreich.ch
END:VEVENT
BEGIN:VEVENT
DTSTART;TZID=Europe/Paris:20240302T110000
DTEND;TZID=Europe/Paris:20240302T150000
DTSTAMP:20260423T034533
CREATED:20240125T131618Z
LAST-MODIFIED:20240125T131618Z
UID:3175-1709377200-1709391600@www.kunstreich.ch
SUMMARY:Vernissage Carlo Blötzer
DESCRIPTION:Sylvie Spillman & Carlo Blötzer \nVernissage am Samstag\, 2. März von 11-15 Uhr \nCarlo Blötzer ist in einem kreativen Umfeld im Berner Oberland aufgewachsen. Er widmete sich nach seinem Studium und einer Lehrertätigkeit zunehmend der Entwicklung und Gestaltung von Eisenplastiken. Seine Leidenschaft für bewegliche Skulpturen\, inspiriert durch alte Maschinen und Automaten\, spiegelt sich in Werken wider\, die sowohl in ihrer Form als auch in ihrer Dynamik die Verbindung von Maschinenhaftem und Tierischem einfangen. \nEr kombiniert ausgemusterte Werkzeug- und Maschinenelemente neu\, um seine Begeisterung für klare Formen und mechanische Prinzipien auszudrücken. Durch Handkurbeln zum Leben erweckt\, ermöglichen seine Maschinenfiguren einen Einblick in eine Welt\, in der die Maschine eine eigene\, beinahe lebendige Seele zu besitzen scheint.
URL:https://www.kunstreich.ch/event/vernissage-carlo-bloetzer/
LOCATION:Kunstreich Bern\, Gerechtigkeitsgasse 76\, Bern\, 3011\, Schweiz
CATEGORIES:Vernissage
ATTACH;FMTTYPE=image/jpeg:https://www.kunstreich.ch/wp-content/uploads/2024/01/Ausstellung_Kunstreich_Carlo_Bloetzer_iptameno-2022.jpg
ORGANIZER;CN="Kunstreich AG":MAILTO:info@kunstreich.ch
END:VEVENT
BEGIN:VEVENT
DTSTART;TZID=Europe/Paris:20240323T110000
DTEND;TZID=Europe/Paris:20240323T170000
DTSTAMP:20260423T034533
CREATED:20240219T163912Z
LAST-MODIFIED:20240219T164655Z
UID:3241-1711191600-1711213200@www.kunstreich.ch
SUMMARY:Europäische Tage des Kunsthandwerks - ETAK Bern 2024
DESCRIPTION:Wir sind leidenschaftliche Kunsthandwerker:innen\nZu den Teilnehmenden/Programm ETAK \nAuch dieses Jahr sind wir wieder zu Gast im Atelier Rothe bei den Spezialisten für Restaurierung und Konservierung von Büchern\, Grafiken\, Fotografien und anderem Archivgut. \nWir geben Ihnen einen Einblick in unser Kunsthandwerk. Wer Lust hat\, während den ETAK selbst einmal mit Blattgold zu vergolden\, darf Ostereier vergolden und/oder sie im Textilatelier Feltro von Sabine Hermann-Michels mit Naturfarben einfärben.\nUnkostenbeitrag: CHF. 1.-/Ei.\n \nWann:      SA und SO 23. & 24. März 11-13 Uhr und 14-17 Uhr \nStandort:   Im alten Pförtnerhaus beim Schosshaldenfreidhof\nAtelier Rothe\, Ostermundigenstrasse 60 CH–3006 Bern \nWas sind die ETAK ?\nDie jährlich stattfindenden Europäischen Tage des Kunsthandwerks (ETAK)\, die nunmehr zur bedeutendsten internationalen Veranstaltung rund um das Kunsthandwerk geworden sind\, bieten für die breite Öffentlichkeit Gelegenheit\, an den Tagen der offenen Tür in die Welt des vielfältigen Kunsthandwerks einzutauchen\, ganz gleich ob dabei den Gestalter:innen nur über die Schulter geschaut oder selbst Hand angelegt wird. \nKreativschaffende im Bereich der angewandten Kunst geben am Ort ihres Schaffens in Ateliers und Werkstätten\, ebenso wie in Museen und Theater u.a. Einblick in ihre Tätigkeit und präsentieren ihre Objekte. Die Kultur und Faszination des Kunsthandwerks wird mit Führungen\, Demonstrationen\, Workshops\, Ausstellungen direkt erlebbar. Gleichzeitig haben sie die Möglichkeit\, insbesondere auch einem jungen Publikum\, die Leidenschaft und Begeisterung für ihren Beruf zu zeigen und weiterzugeben. \n 
URL:https://www.kunstreich.ch/event/europaeische-tage-des-kunsthandwerks-etak-bern-2024/
LOCATION:Atelier Rothe\, Ostermundigenstrasse 60\, Altes Pförtnerhaus Schosshaldenfreidhof\, Bern\, 3006\, Schweiz
END:VEVENT
BEGIN:VEVENT
DTSTART;TZID=Europe/Paris:20240324T110000
DTEND;TZID=Europe/Paris:20240324T170000
DTSTAMP:20260423T034533
CREATED:20240219T164923Z
LAST-MODIFIED:20240223T154325Z
UID:3249-1711278000-1711299600@www.kunstreich.ch
SUMMARY:Europäische Tage des Kunsthandwerks - ETAK Bern 2024
DESCRIPTION:Wir sind leidenschaftliche Kunsthandwerker:innen\nZu den Teilnehmenden/Programm ETAK \nAuch dieses Jahr sind wir wieder zu Gast im Atelier Rothe bei den Spezialisten für Restaurierung und Konservierung von Büchern\, Grafiken\, Fotografien und anderem Archivgut. \nWir geben Ihnen einen Einblick in unser Kunsthandwerk. Wer Lust hat\, während den ETAK selbst einmal mit Blattgold zu vergolden\, darf Ostereier vergolden und/oder sie im Textilatelier Feltro von Sabine Hermann-Michels mit Naturfarben einfärben.\nUnkostenbeitrag: CHF. 1.-/Ei.\n \nWann:      SA und SO 23. & 24. März 11-13 Uhr und 14-17 Uhr \nStandort:   Im alten Pförtnerhaus beim Schosshaldenfreidhof\nAtelier Rothe\, Ostermundigenstrasse 60 CH–3006 Bern \nWas sind die ETAK ?\nDie jährlich stattfindenden Europäischen Tage des Kunsthandwerks (ETAK)\, die nunmehr zur bedeutendsten internationalen Veranstaltung rund um das Kunsthandwerk geworden sind\, bieten für die breite Öffentlichkeit Gelegenheit\, an den Tagen der offenen Tür in die Welt des vielfältigen Kunsthandwerks einzutauchen\, ganz gleich ob dabei den Gestalter:innen nur über die Schulter geschaut oder selbst Hand angelegt wird. \nKreativschaffende im Bereich der angewandten Kunst geben am Ort ihres Schaffens in Ateliers und Werkstätten\, ebenso wie in Museen und Theater u.a. Einblick in ihre Tätigkeit und präsentieren ihre Objekte. Die Kultur und Faszination des Kunsthandwerks wird mit Führungen\, Demonstrationen\, Workshops\, Ausstellungen direkt erlebbar. Gleichzeitig haben sie die Möglichkeit\, insbesondere auch einem jungen Publikum\, die Leidenschaft und Begeisterung für ihren Beruf zu zeigen und weiterzugeben. \n 
URL:https://www.kunstreich.ch/event/europaeische-tage-des-kunsthandwerks-etak-bern-2024-2/
LOCATION:Atelier Rothe\, Ostermundigenstrasse 60\, Altes Pförtnerhaus Schosshaldenfreidhof\, Bern\, 3006\, Schweiz
END:VEVENT
END:VCALENDAR