BEGIN:VCALENDAR
VERSION:2.0
PRODID:-//Kunstreich - Bern und Ostermundigen - ECPv6.15.11//NONSGML v1.0//EN
CALSCALE:GREGORIAN
METHOD:PUBLISH
X-WR-CALNAME:Kunstreich - Bern und Ostermundigen
X-ORIGINAL-URL:https://www.kunstreich.ch
X-WR-CALDESC:Veranstaltungen für Kunstreich - Bern und Ostermundigen
REFRESH-INTERVAL;VALUE=DURATION:PT1H
X-Robots-Tag:noindex
X-PUBLISHED-TTL:PT1H
BEGIN:VTIMEZONE
TZID:Europe/Paris
BEGIN:DAYLIGHT
TZOFFSETFROM:+0100
TZOFFSETTO:+0200
TZNAME:CEST
DTSTART:20250330T010000
END:DAYLIGHT
BEGIN:STANDARD
TZOFFSETFROM:+0200
TZOFFSETTO:+0100
TZNAME:CET
DTSTART:20251026T010000
END:STANDARD
BEGIN:DAYLIGHT
TZOFFSETFROM:+0100
TZOFFSETTO:+0200
TZNAME:CEST
DTSTART:20260329T010000
END:DAYLIGHT
BEGIN:STANDARD
TZOFFSETFROM:+0200
TZOFFSETTO:+0100
TZNAME:CET
DTSTART:20261025T010000
END:STANDARD
BEGIN:DAYLIGHT
TZOFFSETFROM:+0100
TZOFFSETTO:+0200
TZNAME:CEST
DTSTART:20270328T010000
END:DAYLIGHT
BEGIN:STANDARD
TZOFFSETFROM:+0200
TZOFFSETTO:+0100
TZNAME:CET
DTSTART:20271031T010000
END:STANDARD
END:VTIMEZONE
BEGIN:VEVENT
DTSTART;VALUE=DATE:20260425
DTEND;VALUE=DATE:20260524
DTSTAMP:20260420T110046
CREATED:20260327T112044Z
LAST-MODIFIED:20260327T121834Z
UID:3654-1777075200-1779580799@www.kunstreich.ch
SUMMARY:Ausstellung: Anna Kammermann und Milan Spacek
DESCRIPTION:Anna Kammermann aufgewachsen in Küsnacht ZH\, lebt und arbeitet seit 1975 im Tessin.\nIch habe immer gemalt\, es ist ein Bedürfnis\, manchmal ein Kampf\, ein Konflikt\, aber vor allem macht es glücklich zu erfahren\, wie Neues geboren wird.\nMit Farben\, Leinwand und Papieren versuche ich täglich neue Ebenen der Wahrnehmung zu finden\, das Universum voller Überraschungen zu erforschen. Jedes Bild ist einmalig und ein Geschenk. Meine Bilder sind für mich Verbindung zur Welt und zu den Andern.- Nonverbale Kommunikation durch Figuration \, Farbe und Licht. \nMilan Spacek\, lebt und arbeitet in Dielsdorf und Bülach.\nDer seit Anfang 2006 freischaffende Künstler\, konnte bereits ein breites Publikum\, darunter prominente Sammler und Galerien aus dem In- und Ausland\, für seine Werke begeistern. Ankäufe aus Deutschland\, Österreich\, Lichtenstein\, Italien\, Frankreich\, Portugal\, Holland\, England\, Norwegen\, den Vereinigten Staaten\, Südkorea und der Schweiz.\nZahlreiche jurierte Einzel- und Gruppen- Ausstellungen im In- und Ausland.\nKunst in all ihren Formen\, ist für mich die unsterbliche Zeugin des menschlichen Intellekts\, unserer Kultur und vielleicht der einzige\, bleibende Beweis für die Schönheit unseres Geistes. \nAusstellung 25. April bis 23. Mai 2026\nVernissage Samstag\, den 25. April 11.00 – 14.00 Uhr
URL:https://www.kunstreich.ch/event/anna-kammermann-und-milan-spacek/
CATEGORIES:Ausstellung
ATTACH;FMTTYPE=image/jpeg:https://www.kunstreich.ch/wp-content/uploads/2026/03/Karte_A5_Kammermann_Spacek-1.jpg
END:VEVENT
BEGIN:VEVENT
DTSTART;TZID=Europe/Paris:20260425T110000
DTEND;TZID=Europe/Paris:20260425T140000
DTSTAMP:20260420T110046
CREATED:20251106T190726Z
LAST-MODIFIED:20260327T121603Z
UID:3608-1777114800-1777125600@www.kunstreich.ch
SUMMARY:Vernissage: Anna Kammermann & Milan Spacek
DESCRIPTION:Vernissage: 25. April 2026\nBeide Künstler sind anwesend. \nAusstellung: 25. April – 23. Mai 2026
URL:https://www.kunstreich.ch/event/vernissage-anna-kammermann-milan-spacek/
LOCATION:Kunstreich Bern\, Gerechtigkeitsgasse 76\, Bern\, 3011\, Schweiz
CATEGORIES:Vernissage
ATTACH;FMTTYPE=image/jpeg:https://www.kunstreich.ch/wp-content/uploads/2026/03/Karte_A5_Kammermann_Spacek-1.jpg
ORGANIZER;CN="Kunstreich AG":MAILTO:info@kunstreich.ch
END:VEVENT
BEGIN:VEVENT
DTSTART;VALUE=DATE:20260604
DTEND;VALUE=DATE:20260705
DTSTAMP:20260420T110046
CREATED:20260327T113007Z
LAST-MODIFIED:20260327T121643Z
UID:3659-1780531200-1783209599@www.kunstreich.ch
SUMMARY:Ausstellung: Heloisa Ackermann und Pascal Murer
DESCRIPTION:Heloisa Ackermann\, geboren und aufgewachsen in São Paulo\, Studium und Weiterbildung\nan höheren Kunstakademien\, lebt und arbeitet seit 2005 in Bern.\nDie Ausstellung MEMORIAS AFETIVAS ist eine Einladung zur Nähe.\nWas uns berührt\, bleibt.\nSchichten aus Linien\, Fragmenten\, Überlagerungen.\nEin Blatt im Gegenlicht. Alte Skizzen. \nErinnerung.\nZuneigung. \nPascal Murer (Uri)\, absolvierte die Meisterschule für Bildhauerei an der Akademie der bildenden Künste Wien. 2001 gründete er das Atelier VEDO ARTE in Locarno.\nAuf meinem Weg hinterlasse ich Zeichen von Herkunft und Vision – Spuren des Lebens.\nIch zeichne seit meiner Kindheit. Es war für mich immer ein Weg der Kommunikation.\nMeine Skulpturen sehe ich als räumliche Weiterführung der Zeichnung in die dritte Dimension. \nAusstellung 4. Juni bis 4. Juli\nVernissage 4. Juni von 17.00 bis 20.00
URL:https://www.kunstreich.ch/event/heloisa-ackermann-und-pascal-murer/
CATEGORIES:Ausstellung
ATTACH;FMTTYPE=image/jpeg:https://www.kunstreich.ch/wp-content/uploads/2026/03/Karte_A5_Ackermann_Murer-1.jpg
END:VEVENT
BEGIN:VEVENT
DTSTART;TZID=Europe/Paris:20260604T170000
DTEND;TZID=Europe/Paris:20260604T200000
DTSTAMP:20260420T110046
CREATED:20260327T113150Z
LAST-MODIFIED:20260327T123121Z
UID:3662-1780592400-1780603200@www.kunstreich.ch
SUMMARY:Vernissage: Heloisa Ackermann und Pascal Murer
DESCRIPTION:Vernissage: 4. Juni 2026 17 – 20 h\nBeide Künstler sind anwesend. \nAusstellung: 4.6. bis 4.7.2026
URL:https://www.kunstreich.ch/event/vernissage-heloisa-ackermann-und-pascal-murer/
LOCATION:Kunstreich Bern\, Gerechtigkeitsgasse 76\, Bern\, 3011\, Schweiz
CATEGORIES:Vernissage
ATTACH;FMTTYPE=image/jpeg:https://www.kunstreich.ch/wp-content/uploads/2026/03/Karte_A5_Ackermann_Murer-1.jpg
END:VEVENT
BEGIN:VEVENT
DTSTART;VALUE=DATE:20260822
DTEND;VALUE=DATE:20260920
DTSTAMP:20260420T110046
CREATED:20251202T151340Z
LAST-MODIFIED:20251202T153615Z
UID:3631-1787356800-1789862399@www.kunstreich.ch
SUMMARY:Ausstellung: Mark J. Huber
DESCRIPTION:Beitrag Künstler
URL:https://www.kunstreich.ch/event/ausstellung-mark-j-huber/
LOCATION:Kunstreich Bern\, Gerechtigkeitsgasse 76\, Bern\, 3011\, Schweiz
CATEGORIES:Ausstellung
ATTACH;FMTTYPE=image/jpeg:https://www.kunstreich.ch/wp-content/uploads/2023/08/Kunstreich_Mark_J_Huber.jpeg
END:VEVENT
END:VCALENDAR