BEGIN:VCALENDAR
VERSION:2.0
PRODID:-//Kunstreich - Bern und Ostermundigen - ECPv6.15.11//NONSGML v1.0//EN
CALSCALE:GREGORIAN
METHOD:PUBLISH
X-WR-CALNAME:Kunstreich - Bern und Ostermundigen
X-ORIGINAL-URL:https://www.kunstreich.ch
X-WR-CALDESC:Veranstaltungen für Kunstreich - Bern und Ostermundigen
REFRESH-INTERVAL;VALUE=DURATION:PT1H
X-Robots-Tag:noindex
X-PUBLISHED-TTL:PT1H
BEGIN:VTIMEZONE
TZID:Europe/Paris
BEGIN:DAYLIGHT
TZOFFSETFROM:+0100
TZOFFSETTO:+0200
TZNAME:CEST
DTSTART:20240331T010000
END:DAYLIGHT
BEGIN:STANDARD
TZOFFSETFROM:+0200
TZOFFSETTO:+0100
TZNAME:CET
DTSTART:20241027T010000
END:STANDARD
BEGIN:DAYLIGHT
TZOFFSETFROM:+0100
TZOFFSETTO:+0200
TZNAME:CEST
DTSTART:20250330T010000
END:DAYLIGHT
BEGIN:STANDARD
TZOFFSETFROM:+0200
TZOFFSETTO:+0100
TZNAME:CET
DTSTART:20251026T010000
END:STANDARD
BEGIN:DAYLIGHT
TZOFFSETFROM:+0100
TZOFFSETTO:+0200
TZNAME:CEST
DTSTART:20260329T010000
END:DAYLIGHT
BEGIN:STANDARD
TZOFFSETFROM:+0200
TZOFFSETTO:+0100
TZNAME:CET
DTSTART:20261025T010000
END:STANDARD
END:VTIMEZONE
BEGIN:VEVENT
DTSTART;VALUE=DATE:20251109
DTEND;VALUE=DATE:20251207
DTSTAMP:20260421T230946
CREATED:20251027T225332Z
LAST-MODIFIED:20251027T225332Z
UID:3582-1762646400-1765065599@www.kunstreich.ch
SUMMARY:Ausstellung: Carole Kohler
DESCRIPTION:Vernissage: 9. November 2025 13.00 -16.00 Uhr\nFinissage:  6. Dezember 2025 13:00 – 16:00 Uhr\nSeit über 30 Jahren arbeitet Carole Kohler hauptberuflich als Kunstschaffende. Sie hat Sammler ihrer abstrakten Bildwerke und skulpturalen Arbeiten in aller Welt.  Nebst der Schweiz und Deutschland\, hat sie in den USA\, Hongkong\, Frankreich\, Italien\, Dänemark ausgestellt. Sie erfindet sich und ihre Kunst immer wieder neu und ist künstlerisch und in der Auswahl ihrer Medien dauerhaft am Puls der Zeit. \nCV-Highlights\nSeit 1993 freischaffende Künstlerin\n2015 Gewinn des Prix de La Sarrazine der Fondation FARB mit 8-monatiger Künstlerresidenz in der Provence\n2018 2. Platz im internationalen Kunstwettbewerb von PARLEO\, Italien\n2019 2-monatige Künstlerresidenz im Kirsten-Kjaer-Museum in Dänemark\n2024 Ausstellungsprojekt „Peek-a-boo“ an der Biennale Venedig\n2025 Skulpturengruppe „Peek-a-boo Pack“ an der Volta Basel\, während der Art Basel \n  \n  \n 
URL:https://www.kunstreich.ch/event/ausstellung-carole-kohler/
CATEGORIES:Ausstellung
ATTACH;FMTTYPE=image/jpeg:https://www.kunstreich.ch/wp-content/uploads/2025/10/Ausstellung_Carole-_Kohler_2025_Kunstreich.jpg
END:VEVENT
BEGIN:VEVENT
DTSTART;TZID=Europe/Paris:20251130T110000
DTEND;TZID=Europe/Paris:20251130T170000
DTSTAMP:20260421T230946
CREATED:20251106T193218Z
LAST-MODIFIED:20251106T193356Z
UID:3622-1764500400-1764522000@www.kunstreich.ch
SUMMARY:1. Advent Berner Altstadt
DESCRIPTION:Save the date: Sonntag\, 30. November 2025\n\n\nWir freuen wir uns\, Sie zum Ersten Advent in der Unteren Altstadt willkommen zu heissen. Zahlreiche Geschäfte\, Werkstätte\, Galerien\, Restaurants und Cafés öffnen von 11 bis 17 Uhr Ihre Türen und läuten gemeinsam mit Ihnen die besinnliche Weihnachtszeit ein.\nZum Anlass \nWie jedes Jahr sind auch wir in der Galerie Kunstreich mit dabei und freuen uns auf euren Besuch in der Galerie auf drei Etagen. 
URL:https://www.kunstreich.ch/event/1-advent-berner-altstadt/
LOCATION:Kunstreich Bern\, Gerechtigkeitsgasse 76\, Bern\, 3011\, Schweiz
CATEGORIES:Altstadt Anlässe
ATTACH;FMTTYPE=image/jpeg:https://www.kunstreich.ch/wp-content/uploads/2025/11/1.Advent_Bern_Kunstreich.jpg
END:VEVENT
END:VCALENDAR