BEGIN:VCALENDAR
VERSION:2.0
PRODID:-//Kunstreich - Bern und Ostermundigen - ECPv6.15.11//NONSGML v1.0//EN
CALSCALE:GREGORIAN
METHOD:PUBLISH
X-WR-CALNAME:Kunstreich - Bern und Ostermundigen
X-ORIGINAL-URL:https://www.kunstreich.ch
X-WR-CALDESC:Veranstaltungen für Kunstreich - Bern und Ostermundigen
REFRESH-INTERVAL;VALUE=DURATION:PT1H
X-Robots-Tag:noindex
X-PUBLISHED-TTL:PT1H
BEGIN:VTIMEZONE
TZID:Europe/Paris
BEGIN:DAYLIGHT
TZOFFSETFROM:+0100
TZOFFSETTO:+0200
TZNAME:CEST
DTSTART:20240331T010000
END:DAYLIGHT
BEGIN:STANDARD
TZOFFSETFROM:+0200
TZOFFSETTO:+0100
TZNAME:CET
DTSTART:20241027T010000
END:STANDARD
BEGIN:DAYLIGHT
TZOFFSETFROM:+0100
TZOFFSETTO:+0200
TZNAME:CEST
DTSTART:20250330T010000
END:DAYLIGHT
BEGIN:STANDARD
TZOFFSETFROM:+0200
TZOFFSETTO:+0100
TZNAME:CET
DTSTART:20251026T010000
END:STANDARD
BEGIN:DAYLIGHT
TZOFFSETFROM:+0100
TZOFFSETTO:+0200
TZNAME:CEST
DTSTART:20260329T010000
END:DAYLIGHT
BEGIN:STANDARD
TZOFFSETFROM:+0200
TZOFFSETTO:+0100
TZNAME:CET
DTSTART:20261025T010000
END:STANDARD
END:VTIMEZONE
BEGIN:VEVENT
DTSTART;TZID=Europe/Paris:20251106T080000
DTEND;TZID=Europe/Paris:20251106T170000
DTSTAMP:20260421T230945
CREATED:20251106T184342Z
LAST-MODIFIED:20251106T184451Z
UID:3598-1762416000-1762448400@www.kunstreich.ch
SUMMARY:Berner Galerienwochenende 2026
DESCRIPTION:Der Verein Berner Galerien sowie seine Kultur- und  Museumspartner:innen laden Sie herzlich zum traditionellen Berner Galerien Wochenende (BGW) ein\, welches 2026 am 17. und 18. Januar stattfinden wird.\nDas Berner Galerien Wochenende feiert sein 40-jähriges Bestehen – die erste Ausgabe fand im September 1986 statt. Erneut freuen wir uns auf Ihren Besuch und den Austausch! \nZur Ausstellung im Kunsteich: Alexandra Schläfli
URL:https://www.kunstreich.ch/event/berner-galerienwochenende-2026/
END:VEVENT
END:VCALENDAR