BEGIN:VCALENDAR
VERSION:2.0
PRODID:-//Kunstreich - Bern und Ostermundigen - ECPv6.15.11//NONSGML v1.0//EN
CALSCALE:GREGORIAN
METHOD:PUBLISH
X-WR-CALNAME:Kunstreich - Bern und Ostermundigen
X-ORIGINAL-URL:https://www.kunstreich.ch
X-WR-CALDESC:Veranstaltungen für Kunstreich - Bern und Ostermundigen
REFRESH-INTERVAL;VALUE=DURATION:PT1H
X-Robots-Tag:noindex
X-PUBLISHED-TTL:PT1H
BEGIN:VTIMEZONE
TZID:Europe/Paris
BEGIN:DAYLIGHT
TZOFFSETFROM:+0100
TZOFFSETTO:+0200
TZNAME:CEST
DTSTART:20240331T010000
END:DAYLIGHT
BEGIN:STANDARD
TZOFFSETFROM:+0200
TZOFFSETTO:+0100
TZNAME:CET
DTSTART:20241027T010000
END:STANDARD
BEGIN:DAYLIGHT
TZOFFSETFROM:+0100
TZOFFSETTO:+0200
TZNAME:CEST
DTSTART:20250330T010000
END:DAYLIGHT
BEGIN:STANDARD
TZOFFSETFROM:+0200
TZOFFSETTO:+0100
TZNAME:CET
DTSTART:20251026T010000
END:STANDARD
BEGIN:DAYLIGHT
TZOFFSETFROM:+0100
TZOFFSETTO:+0200
TZNAME:CEST
DTSTART:20260329T010000
END:DAYLIGHT
BEGIN:STANDARD
TZOFFSETFROM:+0200
TZOFFSETTO:+0100
TZNAME:CET
DTSTART:20261025T010000
END:STANDARD
END:VTIMEZONE
BEGIN:VEVENT
DTSTART;VALUE=DATE:20250501
DTEND;VALUE=DATE:20250601
DTSTAMP:20260422T082944
CREATED:20241228T131311Z
LAST-MODIFIED:20250122T223725Z
UID:3494-1746057600-1748735999@www.kunstreich.ch
SUMMARY:Ausstellung Jaya Schürch & Andrea Sohm-Jenni
DESCRIPTION:Jaya Schürch’s Skulpturen aus Marmor und Bronce reflektieren ihr internationales Leben. Sie strahlen Wärme aus und sind verständlich in jeder Sprache. Verbindung und Kommunikation ist das Herz von Schürchs kreativem Impuls.\nDie Familienwurzeln von Jaya Schürch greifen in Bern tief. Geboren ist sie in Santa Barbara\, Kalifornien\, aber der Vater stammte aus Bern\, wo sie auch einige Teenager Jahren mit ihrer Familie verbracht hat. Später hat sie in Zürich studiert\, in Hawaii gelebt und schliesslich sich in der Toskana in der Nähe des unübertrefflichen Cararra-Marmors etabliert. \nAndrea Sohm-Jenni\nIch finde es faszinierend\, mit Farben\, Formen und Kompositionen Bilder zu erschaffen\, die in ihrer Abstraktion Assoziationen auslösen\, Stimmungen erzeugen und so die Fantasie anregen. Meine Inspiration erlange ich aus der Natur\, der Architektur oder von Begegnungen. Ich arbeite gerne mit Kontrasten. Das Spiel der Farben\, und wie sie sich in ihrer Wirkung gegenseitig beeinflussen\, begeistert mich immer wieder aufs Neue.
URL:https://www.kunstreich.ch/event/ausstellung-jaya-schuerch-andrea-sohm-jenni/
LOCATION:Kunstreich Bern\, Gerechtigkeitsgasse 76\, Bern\, 3011\, Schweiz
CATEGORIES:Ausstellung
ATTACH;FMTTYPE=image/jpeg:https://www.kunstreich.ch/wp-content/uploads/2024/12/schuerch_sohm.jpg
END:VEVENT
END:VCALENDAR