BEGIN:VCALENDAR
VERSION:2.0
PRODID:-//Kunstreich - Bern und Ostermundigen - ECPv6.15.11//NONSGML v1.0//EN
CALSCALE:GREGORIAN
METHOD:PUBLISH
X-ORIGINAL-URL:https://www.kunstreich.ch
X-WR-CALDESC:Veranstaltungen für Kunstreich - Bern und Ostermundigen
REFRESH-INTERVAL;VALUE=DURATION:PT1H
X-Robots-Tag:noindex
X-PUBLISHED-TTL:PT1H
BEGIN:VTIMEZONE
TZID:Europe/Paris
BEGIN:DAYLIGHT
TZOFFSETFROM:+0100
TZOFFSETTO:+0200
TZNAME:CEST
DTSTART:20240331T010000
END:DAYLIGHT
BEGIN:STANDARD
TZOFFSETFROM:+0200
TZOFFSETTO:+0100
TZNAME:CET
DTSTART:20241027T010000
END:STANDARD
BEGIN:DAYLIGHT
TZOFFSETFROM:+0100
TZOFFSETTO:+0200
TZNAME:CEST
DTSTART:20250330T010000
END:DAYLIGHT
BEGIN:STANDARD
TZOFFSETFROM:+0200
TZOFFSETTO:+0100
TZNAME:CET
DTSTART:20251026T010000
END:STANDARD
BEGIN:DAYLIGHT
TZOFFSETFROM:+0100
TZOFFSETTO:+0200
TZNAME:CEST
DTSTART:20260329T010000
END:DAYLIGHT
BEGIN:STANDARD
TZOFFSETFROM:+0200
TZOFFSETTO:+0100
TZNAME:CET
DTSTART:20261025T010000
END:STANDARD
END:VTIMEZONE
BEGIN:VEVENT
DTSTART;VALUE=DATE:20250227
DTEND;VALUE=DATE:20250330
DTSTAMP:20260422T114310
CREATED:20241228T130022Z
LAST-MODIFIED:20250117T213223Z
UID:3490-1740614400-1743292799@www.kunstreich.ch
SUMMARY:Ausstelllung Thomas Grogg & Werner Keist
DESCRIPTION:Ausstellung vom 27. Februar bis 29. März 2025\nVernissage 27. Februar von 17. 00 bis 19.00 \nThomas Grogg\nKarge Landschaften in dezenten Farben sind für Grogg das Mittel\, Stimmungen zu transportieren.\nSeine Bilder sind nicht vordergründig\, Konkretes wird nur angedeutet\, was dem Betrachter Interpretationsfreiraum ermöglicht. \nWerner Keist\nDie figürliche Darstellung von Menschen\, abstrahiert und einfach\, steht für Keist im Vordergrund. Altes Metall fasziniert ihn\, von der gelebten\, strukturierten Oberfläche und den Verformungen lässt er sich inspirieren.
URL:https://www.kunstreich.ch/event/ausstelllung-thomas-grogg-werner-keist/
CATEGORIES:Ausstellung
ATTACH;FMTTYPE=image/jpeg:https://www.kunstreich.ch/wp-content/uploads/2024/12/Kunstreich_Grogg_Keist.jpeg
END:VEVENT
END:VCALENDAR