BEGIN:VCALENDAR
VERSION:2.0
PRODID:-//Kunstreich - Bern und Ostermundigen - ECPv6.15.11//NONSGML v1.0//EN
CALSCALE:GREGORIAN
METHOD:PUBLISH
X-ORIGINAL-URL:https://www.kunstreich.ch
X-WR-CALDESC:Veranstaltungen für Kunstreich - Bern und Ostermundigen
REFRESH-INTERVAL;VALUE=DURATION:PT1H
X-Robots-Tag:noindex
X-PUBLISHED-TTL:PT1H
BEGIN:VTIMEZONE
TZID:Europe/Paris
BEGIN:DAYLIGHT
TZOFFSETFROM:+0100
TZOFFSETTO:+0200
TZNAME:CEST
DTSTART:20240331T010000
END:DAYLIGHT
BEGIN:STANDARD
TZOFFSETFROM:+0200
TZOFFSETTO:+0100
TZNAME:CET
DTSTART:20241027T010000
END:STANDARD
BEGIN:DAYLIGHT
TZOFFSETFROM:+0100
TZOFFSETTO:+0200
TZNAME:CEST
DTSTART:20250330T010000
END:DAYLIGHT
BEGIN:STANDARD
TZOFFSETFROM:+0200
TZOFFSETTO:+0100
TZNAME:CET
DTSTART:20251026T010000
END:STANDARD
BEGIN:DAYLIGHT
TZOFFSETFROM:+0100
TZOFFSETTO:+0200
TZNAME:CEST
DTSTART:20260329T010000
END:DAYLIGHT
BEGIN:STANDARD
TZOFFSETFROM:+0200
TZOFFSETTO:+0100
TZNAME:CET
DTSTART:20261025T010000
END:STANDARD
END:VTIMEZONE
BEGIN:VEVENT
DTSTART;VALUE=DATE:20250111
DTEND;VALUE=DATE:20250216
DTSTAMP:20260422T131203
CREATED:20241228T112905Z
LAST-MODIFIED:20241228T113014Z
UID:3483-1736553600-1739663999@www.kunstreich.ch
SUMMARY:Ausstellung Regula Mathys-Hänggi
DESCRIPTION:Mit viel Freude starten wir das Galerienjahr 2025 mit neuen Arbeiten von Regula Mathys-Hänggi. \nAm Samstag und Sonntag\, 18. & 19. Januar 2025 findet das Berner Galerien Wochenende statt. Informationen zum Anlass und den Führungen findet ihr hier \nDas Berner Galerienwochenende wird vom Verein Berner Galerien organisiert.
URL:https://www.kunstreich.ch/event/ausstellung-regula-mathys-haenggi/
LOCATION:Kunstreich Bern\, Gerechtigkeitsgasse 76\, Bern\, 3011\, Schweiz
CATEGORIES:Ausstellung
ATTACH;FMTTYPE=image/jpeg:https://www.kunstreich.ch/wp-content/uploads/2024/12/Mathys_Blumenwiese_Ausstellung_Kunstreich.jpg
END:VEVENT
END:VCALENDAR