BEGIN:VCALENDAR
VERSION:2.0
PRODID:-//Kunstreich - Bern und Ostermundigen - ECPv6.15.11//NONSGML v1.0//EN
CALSCALE:GREGORIAN
METHOD:PUBLISH
X-ORIGINAL-URL:https://www.kunstreich.ch
X-WR-CALDESC:Veranstaltungen für Kunstreich - Bern und Ostermundigen
REFRESH-INTERVAL;VALUE=DURATION:PT1H
X-Robots-Tag:noindex
X-PUBLISHED-TTL:PT1H
BEGIN:VTIMEZONE
TZID:Europe/Paris
BEGIN:DAYLIGHT
TZOFFSETFROM:+0100
TZOFFSETTO:+0200
TZNAME:CEST
DTSTART:20230326T010000
END:DAYLIGHT
BEGIN:STANDARD
TZOFFSETFROM:+0200
TZOFFSETTO:+0100
TZNAME:CET
DTSTART:20231029T010000
END:STANDARD
BEGIN:DAYLIGHT
TZOFFSETFROM:+0100
TZOFFSETTO:+0200
TZNAME:CEST
DTSTART:20240331T010000
END:DAYLIGHT
BEGIN:STANDARD
TZOFFSETFROM:+0200
TZOFFSETTO:+0100
TZNAME:CET
DTSTART:20241027T010000
END:STANDARD
BEGIN:DAYLIGHT
TZOFFSETFROM:+0100
TZOFFSETTO:+0200
TZNAME:CEST
DTSTART:20250330T010000
END:DAYLIGHT
BEGIN:STANDARD
TZOFFSETFROM:+0200
TZOFFSETTO:+0100
TZNAME:CET
DTSTART:20251026T010000
END:STANDARD
END:VTIMEZONE
BEGIN:VEVENT
DTSTART;VALUE=DATE:20240810
DTEND;VALUE=DATE:20240915
DTSTAMP:20260422T231210
CREATED:20240217T122832Z
LAST-MODIFIED:20240626T121746Z
UID:3229-1723248000-1726358399@www.kunstreich.ch
SUMMARY:Ausstellung Schang Hutter 1934-2021
DESCRIPTION:«Der Verletzlichkeit Raum geben»\n10 Jahre nach unserer grossen Ausstellung im Tramdepot Bern\, präsentieren wir\, anlässlich des 90. Geburtstages\, Schang Hutter`s Werke in der Galerie. \nDie Ausstellung findet in enger Zusammenarbeit mit Yvonne Nartey Hutter und David Hutter statt.
URL:https://www.kunstreich.ch/event/ausstellung-schang-hutter/
LOCATION:Kunstreich Bern\, Gerechtigkeitsgasse 76\, Bern\, 3011\, Schweiz
CATEGORIES:Ausstellung
ATTACH;FMTTYPE=image/jpeg:https://www.kunstreich.ch/wp-content/uploads/2024/02/Schang_Hutter_Ausstellung_Kunstreich_2024-scaled.jpg
ORGANIZER;CN="Kunstreich AG":MAILTO:info@kunstreich.ch
END:VEVENT
END:VCALENDAR