BEGIN:VCALENDAR
VERSION:2.0
PRODID:-//Kunstreich - Bern und Ostermundigen - ECPv6.15.11//NONSGML v1.0//EN
CALSCALE:GREGORIAN
METHOD:PUBLISH
X-WR-CALNAME:Kunstreich - Bern und Ostermundigen
X-ORIGINAL-URL:https://www.kunstreich.ch
X-WR-CALDESC:Veranstaltungen für Kunstreich - Bern und Ostermundigen
REFRESH-INTERVAL;VALUE=DURATION:PT1H
X-Robots-Tag:noindex
X-PUBLISHED-TTL:PT1H
BEGIN:VTIMEZONE
TZID:Europe/Paris
BEGIN:DAYLIGHT
TZOFFSETFROM:+0100
TZOFFSETTO:+0200
TZNAME:CEST
DTSTART:20230326T010000
END:DAYLIGHT
BEGIN:STANDARD
TZOFFSETFROM:+0200
TZOFFSETTO:+0100
TZNAME:CET
DTSTART:20231029T010000
END:STANDARD
BEGIN:DAYLIGHT
TZOFFSETFROM:+0100
TZOFFSETTO:+0200
TZNAME:CEST
DTSTART:20240331T010000
END:DAYLIGHT
BEGIN:STANDARD
TZOFFSETFROM:+0200
TZOFFSETTO:+0100
TZNAME:CET
DTSTART:20241027T010000
END:STANDARD
BEGIN:DAYLIGHT
TZOFFSETFROM:+0100
TZOFFSETTO:+0200
TZNAME:CEST
DTSTART:20250330T010000
END:DAYLIGHT
BEGIN:STANDARD
TZOFFSETFROM:+0200
TZOFFSETTO:+0100
TZNAME:CET
DTSTART:20251026T010000
END:STANDARD
END:VTIMEZONE
BEGIN:VEVENT
DTSTART;TZID=Europe/Paris:20240511T100000
DTEND;TZID=Europe/Paris:20240613T180000
DTSTAMP:20260423T004807
CREATED:20240217T115243Z
LAST-MODIFIED:20240223T153928Z
UID:3223-1715421600-1718301600@www.kunstreich.ch
SUMMARY:Ausstellung Michel Loth & Esther Tschudin
DESCRIPTION:Michel Loths Blick reicht hinter das Vordergründige. Seine Gemälde schwanken zwischen organischer Langsamkeit und ergreifender Unmittelbarkeit.\nZwischen Verschmelzung und Konfrontation\, verarbeitet der Maler die rohen Töne der Farben.\nRot als reine Energie brodelt hervor und erstarrt zu eisiger Bläue. Pastellfarben suggerieren die im Vegetarischen zur Harmonie gelangte Substanz. Hitze\, Kälte\, Flüssiges\, Erstarrtes alles spiegelt die Gesetzlichkeit kosmischer Prozesse und verdichtet sich in Bilder von ästhetischer Strahlkraft. \nEsther Tschudin;\nAuf meinem Weg begegnen mir all diese wunderbaren\,seltsamen Dinge\, die mich berühren. Wenn ich sie lange genug in mir getragen habe lasse ich los.So entstehen Werke aus meinem Inneren.\nFragmente eines Moments als Fundament meines Seins.\nDann kann ich weitergeben und in Erinnerung bleiben. \nWeindeugstation\nGerne laden wir Sie zusammen mit Wein Kästli zur Frühlingsdegustation ein.\n23. & 24. Mai 2024 von 17.30 -20.00
URL:https://www.kunstreich.ch/event/ausstellung-michel-loth-esther-tschudin/
LOCATION:Kunstreich Bern\, Gerechtigkeitsgasse 76\, Bern\, 3011\, Schweiz
CATEGORIES:Ausstellung
ORGANIZER;CN="Kunstreich AG":MAILTO:info@kunstreich.ch
END:VEVENT
END:VCALENDAR