BEGIN:VCALENDAR
VERSION:2.0
PRODID:-//Kunstreich - Bern und Ostermundigen - ECPv6.15.11//NONSGML v1.0//EN
CALSCALE:GREGORIAN
METHOD:PUBLISH
X-WR-CALNAME:Kunstreich - Bern und Ostermundigen
X-ORIGINAL-URL:https://www.kunstreich.ch
X-WR-CALDESC:Veranstaltungen für Kunstreich - Bern und Ostermundigen
REFRESH-INTERVAL;VALUE=DURATION:PT1H
X-Robots-Tag:noindex
X-PUBLISHED-TTL:PT1H
BEGIN:VTIMEZONE
TZID:Europe/Paris
BEGIN:DAYLIGHT
TZOFFSETFROM:+0100
TZOFFSETTO:+0200
TZNAME:CEST
DTSTART:20230326T010000
END:DAYLIGHT
BEGIN:STANDARD
TZOFFSETFROM:+0200
TZOFFSETTO:+0100
TZNAME:CET
DTSTART:20231029T010000
END:STANDARD
BEGIN:DAYLIGHT
TZOFFSETFROM:+0100
TZOFFSETTO:+0200
TZNAME:CEST
DTSTART:20240331T010000
END:DAYLIGHT
BEGIN:STANDARD
TZOFFSETFROM:+0200
TZOFFSETTO:+0100
TZNAME:CET
DTSTART:20241027T010000
END:STANDARD
BEGIN:DAYLIGHT
TZOFFSETFROM:+0100
TZOFFSETTO:+0200
TZNAME:CEST
DTSTART:20250330T010000
END:DAYLIGHT
BEGIN:STANDARD
TZOFFSETFROM:+0200
TZOFFSETTO:+0100
TZNAME:CET
DTSTART:20251026T010000
END:STANDARD
END:VTIMEZONE
BEGIN:VEVENT
DTSTART;VALUE=DATE:20240302
DTEND;VALUE=DATE:20240331
DTSTAMP:20260425T122050
CREATED:20240109T203713Z
LAST-MODIFIED:20240109T203713Z
UID:2526-1709337600-1711843199@www.kunstreich.ch
SUMMARY:Ausstellung Sylvie Spillmann
DESCRIPTION:Sylvie Spillmann\, Landschaften \nVernissage am Samstag\, 2. März von 11-15 Uhr \nNach ihrem Studium in Neuchâtel reist Sylvie Spillmann mehrere Jahre lang mit einem Segelboot um die Welt\, zwischen Lateinamerika und Französisch-Polynesien. Mit dem Rucksack auf dem Rücken reist sie anschließend durch Asien und Afrika.\nBei der Renovierung eines alten Hauses in Südfrankreich entdeckte Sylvie die natürlichen Pigmente.\nAls Autodidaktin begann sie zu malen\, indem sie ihre eigenen Keilrahmen aus Altholz und auf Flohmärkten gefundenen Leinentüchern baute. Sie experimentiert mit verschiedenen Techniken\, verwendet Spachtel\, Messer oder Bürsten\, die vor Ort zur Verfügung stehen\, und erkundet so dieses neue Ausdrucksmittel\nSo gelingt es ihr heute die Stimmungen einzigartig wieder zu geben.
URL:https://www.kunstreich.ch/event/ausstellung-sylvie-spillmann/
LOCATION:Kunstreich Bern\, Gerechtigkeitsgasse 76\, Bern\, 3011\, Schweiz
ATTACH;FMTTYPE=image/jpeg:https://www.kunstreich.ch/wp-content/uploads/2024/01/0001.jpg
ORGANIZER;CN="Kunstreich AG":MAILTO:info@kunstreich.ch
END:VEVENT
BEGIN:VEVENT
DTSTART;VALUE=DATE:20240302
DTEND;VALUE=DATE:20240331
DTSTAMP:20260425T122050
CREATED:20240125T131854Z
LAST-MODIFIED:20240125T131854Z
UID:3177-1709337600-1711843199@www.kunstreich.ch
SUMMARY:Ausstellung Carlo Blötzer
DESCRIPTION:Carlo Blötzer ist in einem kreativen Umfeld im Berner Oberland aufgewachsen. Er widmete sich nach seinem Studium und einer Lehrertätigkeit zunehmend der Entwicklung und Gestaltung von Eisenplastiken. Seine Leidenschaft für bewegliche Skulpturen\, inspiriert durch alte Maschinen und Automaten\, spiegelt sich in Werken wider\, die sowohl in ihrer Form als auch in ihrer Dynamik die Verbindung von Maschinenhaftem und Tierischem einfangen. \nEr kombiniert ausgemusterte Werkzeug- und Maschinenelemente neu\, um seine Begeisterung für klare Formen und mechanische Prinzipien auszudrücken. Durch Handkurbeln zum Leben erweckt\, ermöglichen seine Maschinenfiguren einen Einblick in eine Welt\, in der die Maschine eine eigene\, beinahe lebendige Seele zu besitzen scheint. \n 
URL:https://www.kunstreich.ch/event/ausstellung-carlo-bloetzer/
LOCATION:Kunstreich Bern\, Gerechtigkeitsgasse 76\, Bern\, 3011\, Schweiz
CATEGORIES:Ausstellung
ATTACH;FMTTYPE=image/jpeg:https://www.kunstreich.ch/wp-content/uploads/2024/01/Ausstellung_Kunstreich_Carlo_Bloetzer_iptameno-2022.jpg
ORGANIZER;CN="Kunstreich AG":MAILTO:info@kunstreich.ch
END:VEVENT
END:VCALENDAR